Workbook

Sheet 01_運用ガイド
A1: 顧客問い合わせ記録テンプレート
A2: さまざまな会社や業務シーンに対応する、問い合わせ登録、SLA追跡、フォロー連携、サービス品質ダッシュボードのテンプレート。
A4: 運用フロー | B4: 受付、担当、状態、結果、次の対応を一つのブックで整理します。
A5: 手順 | B5: 記録シートへ入力し、設定とダッシュボードで状態、優先度、担当者の負荷を確認します。 | C5: 説明
A6: 1 | B6: 新しい記録を追加する前に、状態、チャネル、担当者、チームの選択肢を整えます。 | C6: 「02_相談記録」に初回問い合わせ時刻、顧客、チャネル、業務シナリオ、問題区分、件名、優先度を入力。
A7: 2 | B7: 受付と振り分け | C7: 担当者、協力部門、現在の状態を選択します。担当者、状態、優先度で絞り込めます。
A8: 作成日 | B8: 2026年5月6日 | C8: 初回応答時刻と解決時刻を入力すると、テンプレートが初回応答/解決の達成判定を自動で行う。
A9: 4 | B9: フォローとエスカレーション | C9: 未解決項目では、フォロー内容、次回フォロー日、エスカレーション有無、理由を記入します。
A10: 5 | B10: ダッシュボード確認 | C10: 「03_ダッシュボード」では問い合わせ総数、未完了件数、期限超過リスク、満足度、チャネル・シーン・状態別の分布を確認できます。
A11: テンプレート構成
A12: シート | B12: 用途 | C12: 主な内容
A13: 01_運用ガイド | B13: 運用ガイド | C13: フロー、構成、適用提案。
A14: 02_相談記録 | B14: 主要入力シート | C14: 顧客、チャネル、業務シナリオ、問題、優先度、ステータス、SLA、満足度、フォローアップ。
A15: 03_ダッシュボード | B15: 管理ビュー | C15: KPI、分布集計、期限超過リスク、推移グラフ。
A16: 04_選択肢 | B16: 基礎設定 | C16: 顧客区分、チャネル、シーン、状態、担当者、部門などを管理できます。
A17: 05_SLA規則 | B17: SLAルール | C17: 優先度ごとの初回応答/解決期限は、会社の要件に応じて調整できます。
A18: 06_項目説明 | B18: 項目辞書 | C18: 各列の用途、必須項目かどうか、例、メンテナンスのヒントをまとめています。
A20: 適用提案
A21: 適用対象 | B21: 調整提案
A22: EC/小売 | B22: 注文番号、SKU、配送番号を追加し、返金、返品交換、物流/納品を重点的に確認します。
A23: SaaS/ソフトウェア | B23: アカウントID、バージョン、環境、影響範囲を追加し、技術サポートと権限問題を重点的に確認します。
A24: 金融/保険 | B24: 契約番号/保険証券番号、コンプライアンス区分を追加し、機密情報のマスキングと承認記録に注意します。
A25: 教育/研修 | B25: 講座、クラス、校舎を追加し、時間割、返金、受講者対応を重点的に確認します。
A26: 医療/生活サービス | B26: 店舗/診療科/予約番号を追加し、予約、苦情、サービス品質、フォローアップを重点的に確認します。
A28: ヒント: 青色と白色のエリアは主に入力用、薄緑の列は自動計算項目です。優先度SLAを変更する場合は「05_SLA規則」で管理し、プルダウンの値を変更する場合は「04_選択肢」で管理して検証範囲も広げてください。

Sheet 02_相談記録
A1: 顧客問い合わせ記録
A2: 顧客問い合わせ、対応内容、SLA状態、エスカレーション、フォロー情報を記録します。見出しは絞り込み可能で、薄緑の列は数式で自動計算されます。
A4: 入力メモ：新規レコードでは、初回問い合わせ日時、顧客名、チャネル、業務シーン、問題区分、優先度、現在の状態、担当者を必ず入力してください。日時の推奨形式は 2026-04-25 09:30 です。
A6: 問い合わせID | B6: 初回問い合わせ時刻 | C6: 顧客名 | D6: 顧客区分 | E6: 担当者 | F6: 連絡先 | G6: 問い合わせチャネル | H6: 業務シーン | I6: 製品/サービス | J6: 問題区分 | K6: 問い合わせ件名 | L6: 問い合わせ要約 | M6: 優先度 | N6: 現在の状態 | O6: 担当者 | P6: 協力部門 | Q6: 初回応答時刻 | R6: 解決時刻 | S6: 対応結果/結論 | T6: 初回応答SLA(h) | U6: 解決SLA(h) | V6: 初回応答ステータス | W6: 解決ステータス | X6: 対応時間(h) | Y6: 顧客満足度(1-5) | Z6: フォローアクション | AA6: 次回フォロー日 | AB6: はい/いいえエスカレーション | AC6: エスカレーション理由 | AD6: 備考/リンク
A7: =IF($B7="","","INQ-"&TEXT($B7,"yyyymmdd")&"-"&TEXT(ROW()-6,"0000")) | B7: 2026-04-01 09:30 | C7: 東都商事株式会社 | D7: 法人顧客 | E7: 佐藤さん | F7: chen@example.com | G7: メール | H7: 事前相談 | I7: 法人向けCRM | J7: 機能相談 | K7: 部門横断連携機能に関する問い合わせ | L7: 複数部門の連携、権限分離、今後の見積り手順について確認したい。 | M7: P2 中 | N7: 解決済み | O7: 佐藤 | P7: 営業 | Q7: 2026-04-01 10:15 | R7: 2026-04-02 15:00 | S7: 機能メモと見積を送付済み | T7: =IFERROR(VLOOKUP($M7,'05_SLA規則'!$A$2:$C$5,2,FALSE),"") | U7: =IFERROR(VLOOKUP($M7,'05_SLA規則'!$A$2:$C$5,3,FALSE),"") | V7: =IF(OR($B7="",$T7=""),"",IF($Q7="",IF(NOW()>$B7+$T7/24,"初回応答超過","応答待ち"),IF($Q7<=$B7+$T7/24,"達成","超過"))) | W7: =IF(OR($B7="",$U7=""),"",IF($R7="",IF(OR($N7="解決済み",$N7="クローズ"),"",IF(NOW()>$B7+$U7/24,"未解決超過","対応中")),IF($R7<=$B7+$U7/24,"達成","超過"))) | X7: =IF($B7="","",IF($R7<>"",ROUND(($R7-$B7)*24,1),ROUND((NOW()-$B7)*24,1))) | Y7: 5 | Z7: 試用設定を確認するためにフォローアップ | AA7: 2026-04-08 | AB7: いいえ | AD7: 商談フォローに転用可能です。
A8: =IF($B8="","","INQ-"&TEXT($B8,"yyyymmdd")&"-"&TEXT(ROW()-6,"0000")) | B8: 2026-04-02 14:20 | C8: 山本さん | D8: 個人顧客 | E8: 山本さん | F8: 13800000001 | G8: 電話 | H8: 注文/契約 | I8: 会員サービス | J8: 注文照会 | K8: 注文の開通状況を確認 | L8: 会員サービスの開始時刻を電話で確認した。 | M8: P3 低 | N8: クローズ | O8: 鈴木 | P8: カスタマーサポート | Q8: 2026-04-02 15:00 | R8: 2026-04-02 16:10 | S8: 利用開始手順を説明してクローズ | T8: =IFERROR(VLOOKUP($M8,'05_SLA規則'!$A$2:$C$5,2,FALSE),"") | U8: =IFERROR(VLOOKUP($M8,'05_SLA規則'!$A$2:$C$5,3,FALSE),"") | V8: =IF(OR($B8="",$T8=""),"",IF($Q8="",IF(NOW()>$B8+$T8/24,"初回応答超過","応答待ち"),IF($Q8<=$B8+$T8/24,"達成","超過"))) | W8: =IF(OR($B8="",$U8=""),"",IF($R8="",IF(OR($N8="解決済み",$N8="クローズ"),"",IF(NOW()>$B8+$U8/24,"未解決超過","対応中")),IF($R8<=$B8+$U8/24,"達成","超過"))) | X8: =IF($B8="","",IF($R8<>"",ROUND(($R8-$B8)*24,1),ROUND((NOW()-$B8)*24,1))) | Y8: 4 | Z8: 追加フォロー不要 | AB8: いいえ
A9: =IF($B9="","","INQ-"&TEXT($B9,"yyyymmdd")&"-"&TEXT(ROW()-6,"0000")) | B9: 2026-04-03 11:10 | C9: 北辰テック株式会社 | D9: 法人顧客 | E9: 高橋さん | F9: zhou@example.com | G9: チケットシステム | H9: 技術サポート | I9: SaaSプラットフォーム | J9: アカウント/権限 | K9: 管理者がログインできない | L9: 管理者アカウントのログイン失敗により、チーム設定に影響。 | M9: P1 高 | N9: 対応中 | O9: 高橋 | P9: 技術サポート | Q9: 2026-04-03 12:05 | T9: =IFERROR(VLOOKUP($M9,'05_SLA規則'!$A$2:$C$5,2,FALSE),"") | U9: =IFERROR(VLOOKUP($M9,'05_SLA規則'!$A$2:$C$5,3,FALSE),"") | V9: =IF(OR($B9="",$T9=""),"",IF($Q9="",IF(NOW()>$B9+$T9/24,"初回応答超過","応答待ち"),IF($Q9<=$B9+$T9/24,"達成","超過"))) | W9: =IF(OR($B9="",$U9=""),"",IF($R9="",IF(OR($N9="解決済み",$N9="クローズ"),"",IF(NOW()>$B9+$U9/24,"未解決超過","対応中")),IF($R9<=$B9+$U9/24,"達成","超過"))) | X9: =IF($B9="","",IF($R9<>"",ROUND(($R9-$B9)*24,1),ROUND((NOW()-$B9)*24,1))) | Z9: 顧客からのエラースクリーンショット待ち | AA9: 2026-04-04 | AB9: いいえ | AD9: SSO設定の問題の可能性
A10: =IF($B10="","","INQ-"&TEXT($B10,"yyyymmdd")&"-"&TEXT(ROW()-6,"0000")) | B10: 2026-04-05 16:40 | C10: 南町ストア | D10: チャネル/パートナー | E10: 鈴木店長 | F10: liu@example.com | G10: WeChat/WhatsApp | H10: 苦情・提案 | I10: 店舗サービス | J10: 苦情/提案 | K10: 対応態度への苦情 | L10: 店舗顧客が対応の連絡が遅いとフィードバックし、上長の折り返しを要望。 | M10: P1 高 | N10: エスカレーション済み | O10: 田中 | P10: 運営 | Q10: 2026-04-05 17:10 | T10: =IFERROR(VLOOKUP($M10,'05_SLA規則'!$A$2:$C$5,2,FALSE),"") | U10: =IFERROR(VLOOKUP($M10,'05_SLA規則'!$A$2:$C$5,3,FALSE),"") | V10: =IF(OR($B10="",$T10=""),"",IF($Q10="",IF(NOW()>$B10+$T10/24,"初回応答超過","応答待ち"),IF($Q10<=$B10+$T10/24,"達成","超過"))) | W10: =IF(OR($B10="",$U10=""),"",IF($R10="",IF(OR($N10="解決済み",$N10="クローズ"),"",IF(NOW()>$B10+$U10/24,"未解決超過","対応中")),IF($R10<=$B10+$U10/24,"達成","超過"))) | X10: =IF($B10="","",IF($R10<>"",ROUND(($R10-$B10)*24,1),ROUND((NOW()-$B10)*24,1))) | Z10: 上長が折り返し連絡し、是正内容を記録 | AA10: 2026-04-06 | AB10: はい | AC10: 顧客苦情とサービス品質に関わる | AD10: 運営マネージャーのレビューが必要
A11: =IF($B11="","","INQ-"&TEXT($B11,"yyyymmdd")&"-"&TEXT(ROW()-6,"0000")) | B11: 2026-04-06 08:55 | C11: みらい学習センター | D11: 法人顧客 | E11: 中村先生 | F11: wu@example.com | G11: オンラインチャット | H11: 請求/支払い | I11: 研修プラットフォーム | J11: 請求/支払い | K11: 請求書の宛名変更 | L11: 顧客は請求書の宛名変更と電子請求書の再発行を希望している。 | M11: P2 中 | N11: 解決済み | O11: 山田 | P11: 経理財務 | Q11: 2026-04-06 11:20 | R11: 2026-04-07 12:30 | S11: 修正して請求書を再送 | T11: =IFERROR(VLOOKUP($M11,'05_SLA規則'!$A$2:$C$5,2,FALSE),"") | U11: =IFERROR(VLOOKUP($M11,'05_SLA規則'!$A$2:$C$5,3,FALSE),"") | V11: =IF(OR($B11="",$T11=""),"",IF($Q11="",IF(NOW()>$B11+$T11/24,"初回応答超過","応答待ち"),IF($Q11<=$B11+$T11/24,"達成","超過"))) | W11: =IF(OR($B11="",$U11=""),"",IF($R11="",IF(OR($N11="解決済み",$N11="クローズ"),"",IF(NOW()>$B11+$U11/24,"未解決超過","対応中")),IF($R11<=$B11+$U11/24,"達成","超過"))) | X11: =IF($B11="","",IF($R11<>"",ROUND(($R11-$B11)*24,1),ROUND((NOW()-$B11)*24,1))) | Y11: 5 | Z11: 顧客が請求書を受領したことを確認 | AA11: 2026-04-08 | AB11: いいえ
A12: =IF($B12="","","INQ-"&TEXT($B12,"yyyymmdd")&"-"&TEXT(ROW()-6,"0000")) | B12: 2026-04-07 18:30 | C12: クラウドデータ株式会社 | D12: 法人顧客 | E12: 斉藤社長 | F12: gu@example.com | G12: 電話 | H12: 技術サポート | I12: APIサービス | J12: 障害/停止 | K12: APIが広範囲で失敗 | L12: API呼び出しが失敗し、本番の注文同期に影響している。 | M12: P0 緊急 | N12: 解決済み | O12: 高橋 | P12: 技術サポート | Q12: 2026-04-07 18:45 | R12: 2026-04-07 21:20 | S12: 設定をロールバックしてサービスを復旧 | T12: =IFERROR(VLOOKUP($M12,'05_SLA規則'!$A$2:$C$5,2,FALSE),"") | U12: =IFERROR(VLOOKUP($M12,'05_SLA規則'!$A$2:$C$5,3,FALSE),"") | V12: =IF(OR($B12="",$T12=""),"",IF($Q12="",IF(NOW()>$B12+$T12/24,"初回応答超過","応答待ち"),IF($Q12<=$B12+$T12/24,"達成","超過"))) | W12: =IF(OR($B12="",$U12=""),"",IF($R12="",IF(OR($N12="解決済み",$N12="クローズ"),"",IF(NOW()>$B12+$U12/24,"未解決超過","対応中")),IF($R12<=$B12+$U12/24,"達成","超過"))) | X12: =IF($B12="","",IF($R12<>"",ROUND(($R12-$B12)*24,1),ROUND((NOW()-$B12)*24,1))) | Y12: 5 | Z12: 障害メモを送付 | AA12: 2026-04-08 | AB12: はい | AC12: 本番障害が業務継続性に影響 | AD12: 障害レビューを開始
A13: =IF($B13="","","INQ-"&TEXT($B13,"yyyymmdd")&"-"&TEXT(ROW()-6,"0000")) | B13: 2026-04-09 10:00 | C13: 海川ロジスティクス | D13: 法人顧客 | E13: 渡辺主任 | F13: ma@example.com | G13: チケットシステム | H13: 製品利用 | I13: 物流管理システム | J13: 操作案内 | K13: 一括取込フォーマットの相談 | L13: 顧客が一括取込テンプレートの項目の意味を理解できていない。 | M13: P2 中 | N13: 顧客待ち | O13: 佐藤 | P13: カスタマーサクセス | Q13: 2026-04-09 13:30 | T13: =IFERROR(VLOOKUP($M13,'05_SLA規則'!$A$2:$C$5,2,FALSE),"") | U13: =IFERROR(VLOOKUP($M13,'05_SLA規則'!$A$2:$C$5,3,FALSE),"") | V13: =IF(OR($B13="",$T13=""),"",IF($Q13="",IF(NOW()>$B13+$T13/24,"初回応答超過","応答待ち"),IF($Q13<=$B13+$T13/24,"達成","超過"))) | W13: =IF(OR($B13="",$U13=""),"",IF($R13="",IF(OR($N13="解決済み",$N13="クローズ"),"",IF(NOW()>$B13+$U13/24,"未解決超過","対応中")),IF($R13<=$B13+$U13/24,"達成","超過"))) | X13: =IF($B13="","",IF($R13<>"",ROUND(($R13-$B13)*24,1),ROUND((NOW()-$B13)*24,1))) | Z13: テンプレートメモを送信し、顧客確認を待つ | AA13: 2026-04-10 | AB13: いいえ
A14: =IF($B14="","","INQ-"&TEXT($B14,"yyyymmdd")&"-"&TEXT(ROW()-6,"0000")) | B14: 2026-04-10 09:20 | C14: 一般顧客 | D14: 個人顧客 | E14: 匿名顧客 | F14: social-id-1002 | G14: SNS | H14: 苦情・提案 | I14: アフターサービス | J14: 苦情/提案 | K14: 公開苦情: 返金が遅い | L14: 顧客がSNSで返金処理の遅さを指摘している。 | M14: P1 高 | N14: 対応中 | O14: 鈴木 | P14: アフターサポート | Q14: 2026-04-11 13:00 | T14: =IFERROR(VLOOKUP($M14,'05_SLA規則'!$A$2:$C$5,2,FALSE),"") | U14: =IFERROR(VLOOKUP($M14,'05_SLA規則'!$A$2:$C$5,3,FALSE),"") | V14: =IF(OR($B14="",$T14=""),"",IF($Q14="",IF(NOW()>$B14+$T14/24,"初回応答超過","応答待ち"),IF($Q14<=$B14+$T14/24,"達成","超過"))) | W14: =IF(OR($B14="",$U14=""),"",IF($R14="",IF(OR($N14="解決済み",$N14="クローズ"),"",IF(NOW()>$B14+$U14/24,"未解決超過","対応中")),IF($R14<=$B14+$U14/24,"達成","超過"))) | X14: =IF($B14="","",IF($R14<>"",ROUND(($R14-$B14)*24,1),ROUND((NOW()-$B14)*24,1))) | Z14: 返金履歴を確認し、顧客に個別連絡 | AA14: 2026-04-11 | AB14: はい | AC14: 公開炎上リスク | AD14: 広報の確認が必要
A15: =IF($B15="","","INQ-"&TEXT($B15,"yyyymmdd")&"-"&TEXT(ROW()-6,"0000")) | B15: 2026-04-12 13:15 | C15: 星河EC株式会社 | D15: 法人顧客 | E15: 伊藤さん | F15: huang@example.com | G15: メール | H15: 物流/納品 | I15: 受注履行 | J15: 物流/納品 | K15: 貨物受領の異常 | L15: 配送の受領ステータスが実際と一致しない。 | M15: P3 低 | N15: クローズ | O15: 田中 | P15: 物流 | Q15: 2026-04-12 18:00 | R15: 2026-04-14 10:45 | S15: 物流と確認し、ステータスを更新 | T15: =IFERROR(VLOOKUP($M15,'05_SLA規則'!$A$2:$C$5,2,FALSE),"") | U15: =IFERROR(VLOOKUP($M15,'05_SLA規則'!$A$2:$C$5,3,FALSE),"") | V15: =IF(OR($B15="",$T15=""),"",IF($Q15="",IF(NOW()>$B15+$T15/24,"初回応答超過","応答待ち"),IF($Q15<=$B15+$T15/24,"達成","超過"))) | W15: =IF(OR($B15="",$U15=""),"",IF($R15="",IF(OR($N15="解決済み",$N15="クローズ"),"",IF(NOW()>$B15+$U15/24,"未解決超過","対応中")),IF($R15<=$B15+$U15/24,"達成","超過"))) | X15: =IF($B15="","",IF($R15<>"",ROUND(($R15-$B15)*24,1),ROUND((NOW()-$B15)*24,1))) | Y15: 4 | Z15: 追加フォロー不要 | AB15: いいえ
A16: =IF($B16="","","INQ-"&TEXT($B16,"yyyymmdd")&"-"&TEXT(ROW()-6,"0000")) | B16: 2026-04-13 15:45 | C16: 明徳スクール | D16: 法人顧客 | E16: 小林先生 | F16: he@example.com | G16: オンラインチャット | H16: 製品利用 | I16: 時間割システム | J16: 操作案内 | K16: 時間割の出力問題 | L16: 指定クラスの時間割をどうやって出力するかを相談している。 | M16: P2 中 | N16: 解決済み | O16: 佐藤 | P16: カスタマーサクセス | Q16: 2026-04-13 16:05 | R16: 2026-04-14 09:50 | S16: 出力手順を案内し、録画を送付 | T16: =IFERROR(VLOOKUP($M16,'05_SLA規則'!$A$2:$C$5,2,FALSE),"") | U16: =IFERROR(VLOOKUP($M16,'05_SLA規則'!$A$2:$C$5,3,FALSE),"") | V16: =IF(OR($B16="",$T16=""),"",IF($Q16="",IF(NOW()>$B16+$T16/24,"初回応答超過","応答待ち"),IF($Q16<=$B16+$T16/24,"達成","超過"))) | W16: =IF(OR($B16="",$U16=""),"",IF($R16="",IF(OR($N16="解決済み",$N16="クローズ"),"",IF(NOW()>$B16+$U16/24,"未解決超過","対応中")),IF($R16<=$B16+$U16/24,"達成","超過"))) | X16: =IF($B16="","",IF($R16<>"",ROUND(($R16-$B16)*24,1),ROUND((NOW()-$B16)*24,1))) | Y16: 5 | Z16: 来週、研修ニーズをフォローアップ | AA16: 2026-04-20 | AB16: いいえ
A17: =IF($B17="","","INQ-"&TEXT($B17,"yyyymmdd")&"-"&TEXT(ROW()-6,"0000")) | B17: 2026-04-15 10:30 | C17: みなとクリニック | D17: 法人顧客 | E17: 田中主任 | F17: wang@example.com | G17: 電話 | H17: アカウント/権限 | I17: 予約システム | J17: アカウント/権限 | K17: 看護師アカウントの権限不足 | L17: 複数の看護師アカウントで予約詳細を確認できない。 | M17: P2 中 | N17: 対応中 | O17: 山田 | P17: 技術サポート | T17: =IFERROR(VLOOKUP($M17,'05_SLA規則'!$A$2:$C$5,2,FALSE),"") | U17: =IFERROR(VLOOKUP($M17,'05_SLA規則'!$A$2:$C$5,3,FALSE),"") | V17: =IF(OR($B17="",$T17=""),"",IF($Q17="",IF(NOW()>$B17+$T17/24,"初回応答超過","応答待ち"),IF($Q17<=$B17+$T17/24,"達成","超過"))) | W17: =IF(OR($B17="",$U17=""),"",IF($R17="",IF(OR($N17="解決済み",$N17="クローズ"),"",IF(NOW()>$B17+$U17/24,"未解決超過","対応中")),IF($R17<=$B17+$U17/24,"達成","超過"))) | X17: =IF($B17="","",IF($R17<>"",ROUND(($R17-$B17)*24,1),ROUND((NOW()-$B17)*24,1))) | Z17: 権限対応方針を確認し、修正を手配 | AA17: 2026-04-16 | AB17: いいえ | AD17: 初回応答の追加入力が必要
A18: =IF($B18="","","INQ-"&TEXT($B18,"yyyymmdd")&"-"&TEXT(ROW()-6,"0000")) | B18: 2026-04-18 17:35 | C18: アライアンス代理店 | D18: チャネル/パートナー | E18: 松本さん | F18: zheng@example.com | G18: メール | H18: 注文/契約 | I18: チャネル連携 | J18: 契約/ポリシー | K18: チャネルリベート方針の争い | L18: チャネルパートナーがリベート方針の解釈に異議を唱えている。 | M18: P1 高 | N18: エスカレーション済み | O18: 田中 | P18: 法務/コンプライアンス | Q18: 2026-04-18 18:20 | T18: =IFERROR(VLOOKUP($M18,'05_SLA規則'!$A$2:$C$5,2,FALSE),"") | U18: =IFERROR(VLOOKUP($M18,'05_SLA規則'!$A$2:$C$5,3,FALSE),"") | V18: =IF(OR($B18="",$T18=""),"",IF($Q18="",IF(NOW()>$B18+$T18/24,"初回応答超過","応答待ち"),IF($Q18<=$B18+$T18/24,"達成","超過"))) | W18: =IF(OR($B18="",$U18=""),"",IF($R18="",IF(OR($N18="解決済み",$N18="クローズ"),"",IF(NOW()>$B18+$U18/24,"未解決超過","対応中")),IF($R18<=$B18+$U18/24,"達成","超過"))) | X18: =IF($B18="","",IF($R18<>"",ROUND(($R18-$B18)*24,1),ROUND((NOW()-$B18)*24,1))) | Z18: 契約明細の再確認ミーティングを設定 | AA18: 2026-04-21 | AB18: はい | AC18: 契約やポリシーの説明は管理層確認が必要です。
A19: =IF($B19="","","INQ-"&TEXT($B19,"yyyymmdd")&"-"&TEXT(ROW()-6,"0000")) | B19: 2026-04-20 09:05 | C19: 上質ホーム | D19: 法人顧客 | E19: 佐々木さん | F19: sun@example.com | G19: チケットシステム | H19: 製品利用 | I19: 在庫システム | J19: データ/レポート | K19: レポートの集計基準が一致しない | L19: 顧客は月次在庫レポートと出力明細が一致しないと考えている。 | M19: P2 中 | N19: 解決済み | O19: 高橋 | P19: 技術サポート | Q19: 2026-04-20 11:00 | R19: 2026-04-22 10:10 | S19: 集計基準を説明し、フィルタ条件を修正 | T19: =IFERROR(VLOOKUP($M19,'05_SLA規則'!$A$2:$C$5,2,FALSE),"") | U19: =IFERROR(VLOOKUP($M19,'05_SLA規則'!$A$2:$C$5,3,FALSE),"") | V19: =IF(OR($B19="",$T19=""),"",IF($Q19="",IF(NOW()>$B19+$T19/24,"初回応答超過","応答待ち"),IF($Q19<=$B19+$T19/24,"達成","超過"))) | W19: =IF(OR($B19="",$U19=""),"",IF($R19="",IF(OR($N19="解決済み",$N19="クローズ"),"",IF(NOW()>$B19+$U19/24,"未解決超過","対応中")),IF($R19<=$B19+$U19/24,"達成","超過"))) | X19: =IF($B19="","",IF($R19<>"",ROUND(($R19-$B19)*24,1),ROUND((NOW()-$B19)*24,1))) | Y19: 4 | Z19: ナレッジベースのリンクを送付 | AA19: 2026-04-23 | AB19: いいえ
A20: =IF($B20="","","INQ-"&TEXT($B20,"yyyymmdd")&"-"&TEXT(ROW()-6,"0000")) | B20: 2026-04-22 08:15 | C20: オーロラテック株式会社 | D20: 法人顧客 | E20: 山田さん | F20: song@example.com | G20: 電話 | H20: 技術サポート | I20: 決済ゲートウェイ | J20: 障害/停止 | K20: 支払いコールバック失敗 | L20: 支払いコールバックが失敗し、注文確定に影響している。 | M20: P0 緊急 | N20: 対応中 | O20: 高橋 | P20: 技術サポート | Q20: 2026-04-22 08:45 | T20: =IFERROR(VLOOKUP($M20,'05_SLA規則'!$A$2:$C$5,2,FALSE),"") | U20: =IFERROR(VLOOKUP($M20,'05_SLA規則'!$A$2:$C$5,3,FALSE),"") | V20: =IF(OR($B20="",$T20=""),"",IF($Q20="",IF(NOW()>$B20+$T20/24,"初回応答超過","応答待ち"),IF($Q20<=$B20+$T20/24,"達成","超過"))) | W20: =IF(OR($B20="",$U20=""),"",IF($R20="",IF(OR($N20="解決済み",$N20="クローズ"),"",IF(NOW()>$B20+$U20/24,"未解決超過","対応中")),IF($R20<=$B20+$U20/24,"達成","超過"))) | X20: =IF($B20="","",IF($R20<>"",ROUND(($R20-$B20)*24,1),ROUND((NOW()-$B20)*24,1))) | Z20: ゲートウェイ設定と証明書を確認 | AA20: 2026-04-22 | AB20: はい | AC20: 本番の支払いフロー異常 | AD20: 継続監視が必要
A21: =IF($B21="","","INQ-"&TEXT($B21,"yyyymmdd")&"-"&TEXT(ROW()-6,"0000")) | B21: 2026-04-24 14:10 | C21: 見込み顧客A | D21: 見込み顧客 | E21: 加藤さん | F21: deng@example.com | G21: メール | H21: 事前相談 | I21: 標準版 | J21: 価格/見積 | K21: 見積依頼 | L21: 見込み顧客が標準版の価格と導入期間を知りたがっている。 | M21: P3 低 | N21: 新規受付 | O21: 未割り当て | P21: 営業 | T21: =IFERROR(VLOOKUP($M21,'05_SLA規則'!$A$2:$C$5,2,FALSE),"") | U21: =IFERROR(VLOOKUP($M21,'05_SLA規則'!$A$2:$C$5,3,FALSE),"") | V21: =IF(OR($B21="",$T21=""),"",IF($Q21="",IF(NOW()>$B21+$T21/24,"初回応答超過","応答待ち"),IF($Q21<=$B21+$T21/24,"達成","超過"))) | W21: =IF(OR($B21="",$U21=""),"",IF($R21="",IF(OR($N21="解決済み",$N21="クローズ"),"",IF(NOW()>$B21+$U21/24,"未解決超過","対応中")),IF($R21<=$B21+$U21/24,"達成","超過"))) | X21: =IF($B21="","",IF($R21<>"",ROUND(($R21-$B21)*24,1),ROUND((NOW()-$B21)*24,1))) | Z21: 営業に割り当て後に回答 | AA21: 2026-04-27 | AB21: いいえ
A22: =IF($B22="","","INQ-"&TEXT($B22,"yyyymmdd")&"-"&TEXT(ROW()-6,"0000")) | T22: =IFERROR(VLOOKUP($M22,'05_SLA規則'!$A$2:$C$5,2,FALSE),"") | U22: =IFERROR(VLOOKUP($M22,'05_SLA規則'!$A$2:$C$5,3,FALSE),"") | V22: =IF(OR($B22="",$T22=""),"",IF($Q22="",IF(NOW()>$B22+$T22/24,"初回応答超過","応答待ち"),IF($Q22<=$B22+$T22/24,"達成","超過"))) | W22: =IF(OR($B22="",$U22=""),"",IF($R22="",IF(OR($N22="解決済み",$N22="クローズ"),"",IF(NOW()>$B22+$U22/24,"未解決超過","対応中")),IF($R22<=$B22+$U22/24,"達成","超過"))) | X22: =IF($B22="","",IF($R22<>"",ROUND(($R22-$B22)*24,1),ROUND((NOW()-$B22)*24,1)))
A23: =IF($B23="","","INQ-"&TEXT($B23,"yyyymmdd")&"-"&TEXT(ROW()-6,"0000")) | T23: =IFERROR(VLOOKUP($M23,'05_SLA規則'!$A$2:$C$5,2,FALSE),"") | U23: =IFERROR(VLOOKUP($M23,'05_SLA規則'!$A$2:$C$5,3,FALSE),"") | V23: =IF(OR($B23="",$T23=""),"",IF($Q23="",IF(NOW()>$B23+$T23/24,"初回応答超過","応答待ち"),IF($Q23<=$B23+$T23/24,"達成","超過"))) | W23: =IF(OR($B23="",$U23=""),"",IF($R23="",IF(OR($N23="解決済み",$N23="クローズ"),"",IF(NOW()>$B23+$U23/24,"未解決超過","対応中")),IF($R23<=$B23+$U23/24,"達成","超過"))) | X23: =IF($B23="","",IF($R23<>"",ROUND(($R23-$B23)*24,1),ROUND((NOW()-$B23)*24,1)))
A24: =IF($B24="","","INQ-"&TEXT($B24,"yyyymmdd")&"-"&TEXT(ROW()-6,"0000")) | T24: =IFERROR(VLOOKUP($M24,'05_SLA規則'!$A$2:$C$5,2,FALSE),"") | U24: =IFERROR(VLOOKUP($M24,'05_SLA規則'!$A$2:$C$5,3,FALSE),"") | V24: =IF(OR($B24="",$T24=""),"",IF($Q24="",IF(NOW()>$B24+$T24/24,"初回応答超過","応答待ち"),IF($Q24<=$B24+$T24/24,"達成","超過"))) | W24: =IF(OR($B24="",$U24=""),"",IF($R24="",IF(OR($N24="解決済み",$N24="クローズ"),"",IF(NOW()>$B24+$U24/24,"未解決超過","対応中")),IF($R24<=$B24+$U24/24,"達成","超過"))) | X24: =IF($B24="","",IF($R24<>"",ROUND(($R24-$B24)*24,1),ROUND((NOW()-$B24)*24,1)))
A25: =IF($B25="","","INQ-"&TEXT($B25,"yyyymmdd")&"-"&TEXT(ROW()-6,"0000")) | T25: =IFERROR(VLOOKUP($M25,'05_SLA規則'!$A$2:$C$5,2,FALSE),"") | U25: =IFERROR(VLOOKUP($M25,'05_SLA規則'!$A$2:$C$5,3,FALSE),"") | V25: =IF(OR($B25="",$T25=""),"",IF($Q25="",IF(NOW()>$B25+$T25/24,"初回応答超過","応答待ち"),IF($Q25<=$B25+$T25/24,"達成","超過"))) | W25: =IF(OR($B25="",$U25=""),"",IF($R25="",IF(OR($N25="解決済み",$N25="クローズ"),"",IF(NOW()>$B25+$U25/24,"未解決超過","対応中")),IF($R25<=$B25+$U25/24,"達成","超過"))) | X25: =IF($B25="","",IF($R25<>"",ROUND(($R25-$B25)*24,1),ROUND((NOW()-$B25)*24,1)))
A26: =IF($B26="","","INQ-"&TEXT($B26,"yyyymmdd")&"-"&TEXT(ROW()-6,"0000")) | T26: =IFERROR(VLOOKUP($M26,'05_SLA規則'!$A$2:$C$5,2,FALSE),"") | U26: =IFERROR(VLOOKUP($M26,'05_SLA規則'!$A$2:$C$5,3,FALSE),"") | V26: =IF(OR($B26="",$T26=""),"",IF($Q26="",IF(NOW()>$B26+$T26/24,"初回応答超過","応答待ち"),IF($Q26<=$B26+$T26/24,"達成","超過"))) | W26: =IF(OR($B26="",$U26=""),"",IF($R26="",IF(OR($N26="解決済み",$N26="クローズ"),"",IF(NOW()>$B26+$U26/24,"未解決超過","対応中")),IF($R26<=$B26+$U26/24,"達成","超過"))) | X26: =IF($B26="","",IF($R26<>"",ROUND(($R26-$B26)*24,1),ROUND((NOW()-$B26)*24,1)))
A27: =IF($B27="","","INQ-"&TEXT($B27,"yyyymmdd")&"-"&TEXT(ROW()-6,"0000")) | T27: =IFERROR(VLOOKUP($M27,'05_SLA規則'!$A$2:$C$5,2,FALSE),"") | U27: =IFERROR(VLOOKUP($M27,'05_SLA規則'!$A$2:$C$5,3,FALSE),"") | V27: =IF(OR($B27="",$T27=""),"",IF($Q27="",IF(NOW()>$B27+$T27/24,"初回応答超過","応答待ち"),IF($Q27<=$B27+$T27/24,"達成","超過"))) | W27: =IF(OR($B27="",$U27=""),"",IF($R27="",IF(OR($N27="解決済み",$N27="クローズ"),"",IF(NOW()>$B27+$U27/24,"未解決超過","対応中")),IF($R27<=$B27+$U27/24,"達成","超過"))) | X27: =IF($B27="","",IF($R27<>"",ROUND(($R27-$B27)*24,1),ROUND((NOW()-$B27)*24,1)))
A28: =IF($B28="","","INQ-"&TEXT($B28,"yyyymmdd")&"-"&TEXT(ROW()-6,"0000")) | T28: =IFERROR(VLOOKUP($M28,'05_SLA規則'!$A$2:$C$5,2,FALSE),"") | U28: =IFERROR(VLOOKUP($M28,'05_SLA規則'!$A$2:$C$5,3,FALSE),"") | V28: =IF(OR($B28="",$T28=""),"",IF($Q28="",IF(NOW()>$B28+$T28/24,"初回応答超過","応答待ち"),IF($Q28<=$B28+$T28/24,"達成","超過"))) | W28: =IF(OR($B28="",$U28=""),"",IF($R28="",IF(OR($N28="解決済み",$N28="クローズ"),"",IF(NOW()>$B28+$U28/24,"未解決超過","対応中")),IF($R28<=$B28+$U28/24,"達成","超過"))) | X28: =IF($B28="","",IF($R28<>"",ROUND(($R28-$B28)*24,1),ROUND((NOW()-$B28)*24,1)))
A29: =IF($B29="","","INQ-"&TEXT($B29,"yyyymmdd")&"-"&TEXT(ROW()-6,"0000")) | T29: =IFERROR(VLOOKUP($M29,'05_SLA規則'!$A$2:$C$5,2,FALSE),"") | U29: =IFERROR(VLOOKUP($M29,'05_SLA規則'!$A$2:$C$5,3,FALSE),"") | V29: =IF(OR($B29="",$T29=""),"",IF($Q29="",IF(NOW()>$B29+$T29/24,"初回応答超過","応答待ち"),IF($Q29<=$B29+$T29/24,"達成","超過"))) | W29: =IF(OR($B29="",$U29=""),"",IF($R29="",IF(OR($N29="解決済み",$N29="クローズ"),"",IF(NOW()>$B29+$U29/24,"未解決超過","対応中")),IF($R29<=$B29+$U29/24,"達成","超過"))) | X29: =IF($B29="","",IF($R29<>"",ROUND(($R29-$B29)*24,1),ROUND((NOW()-$B29)*24,1)))
A30: =IF($B30="","","INQ-"&TEXT($B30,"yyyymmdd")&"-"&TEXT(ROW()-6,"0000")) | T30: =IFERROR(VLOOKUP($M30,'05_SLA規則'!$A$2:$C$5,2,FALSE),"") | U30: =IFERROR(VLOOKUP($M30,'05_SLA規則'!$A$2:$C$5,3,FALSE),"") | V30: =IF(OR($B30="",$T30=""),"",IF($Q30="",IF(NOW()>$B30+$T30/24,"初回応答超過","応答待ち"),IF($Q30<=$B30+$T30/24,"達成","超過"))) | W30: =IF(OR($B30="",$U30=""),"",IF($R30="",IF(OR($N30="解決済み",$N30="クローズ"),"",IF(NOW()>$B30+$U30/24,"未解決超過","対応中")),IF($R30<=$B30+$U30/24,"達成","超過"))) | X30: =IF($B30="","",IF($R30<>"",ROUND(($R30-$B30)*24,1),ROUND((NOW()-$B30)*24,1)))
A31: =IF($B31="","","INQ-"&TEXT($B31,"yyyymmdd")&"-"&TEXT(ROW()-6,"0000")) | T31: =IFERROR(VLOOKUP($M31,'05_SLA規則'!$A$2:$C$5,2,FALSE),"") | U31: =IFERROR(VLOOKUP($M31,'05_SLA規則'!$A$2:$C$5,3,FALSE),"") | V31: =IF(OR($B31="",$T31=""),"",IF($Q31="",IF(NOW()>$B31+$T31/24,"初回応答超過","応答待ち"),IF($Q31<=$B31+$T31/24,"達成","超過"))) | W31: =IF(OR($B31="",$U31=""),"",IF($R31="",IF(OR($N31="解決済み",$N31="クローズ"),"",IF(NOW()>$B31+$U31/24,"未解決超過","対応中")),IF($R31<=$B31+$U31/24,"達成","超過"))) | X31: =IF($B31="","",IF($R31<>"",ROUND(($R31-$B31)*24,1),ROUND((NOW()-$B31)*24,1)))
A32: =IF($B32="","","INQ-"&TEXT($B32,"yyyymmdd")&"-"&TEXT(ROW()-6,"0000")) | T32: =IFERROR(VLOOKUP($M32,'05_SLA規則'!$A$2:$C$5,2,FALSE),"") | U32: =IFERROR(VLOOKUP($M32,'05_SLA規則'!$A$2:$C$5,3,FALSE),"") | V32: =IF(OR($B32="",$T32=""),"",IF($Q32="",IF(NOW()>$B32+$T32/24,"初回応答超過","応答待ち"),IF($Q32<=$B32+$T32/24,"達成","超過"))) | W32: =IF(OR($B32="",$U32=""),"",IF($R32="",IF(OR($N32="解決済み",$N32="クローズ"),"",IF(NOW()>$B32+$U32/24,"未解決超過","対応中")),IF($R32<=$B32+$U32/24,"達成","超過"))) | X32: =IF($B32="","",IF($R32<>"",ROUND(($R32-$B32)*24,1),ROUND((NOW()-$B32)*24,1)))
A33: =IF($B33="","","INQ-"&TEXT($B33,"yyyymmdd")&"-"&TEXT(ROW()-6,"0000")) | T33: =IFERROR(VLOOKUP($M33,'05_SLA規則'!$A$2:$C$5,2,FALSE),"") | U33: =IFERROR(VLOOKUP($M33,'05_SLA規則'!$A$2:$C$5,3,FALSE),"") | V33: =IF(OR($B33="",$T33=""),"",IF($Q33="",IF(NOW()>$B33+$T33/24,"初回応答超過","応答待ち"),IF($Q33<=$B33+$T33/24,"達成","超過"))) | W33: =IF(OR($B33="",$U33=""),"",IF($R33="",IF(OR($N33="解決済み",$N33="クローズ"),"",IF(NOW()>$B33+$U33/24,"未解決超過","対応中")),IF($R33<=$B33+$U33/24,"達成","超過"))) | X33: =IF($B33="","",IF($R33<>"",ROUND(($R33-$B33)*24,1),ROUND((NOW()-$B33)*24,1)))
... A306: =IF($B306="","","INQ-"&TEXT($B306,"yyyymmdd")&"-"&TEXT(ROW()-6,"0000")) | T306: =IFERROR(VLOOKUP($M306,'05_SLA規則'!$A$2:$C$5,2,FALSE),"") | U306: =IFERROR(VLOOKUP($M306,'05_SLA規則'!$A$2:$C$5,3,FALSE),"") | V306: =IF(OR($B306="",$T306=""),"",IF($Q306="",IF(NOW()>$B306+$T306/24,"初回応答超過","応答待ち"),IF($Q306<=$B306+$T306/24,"達成","超過"))) | W306: =IF(OR($B306="",$U306=""),"",IF($R306="",IF(OR($N306="解決済み",$N306="クローズ"),"",IF(NOW()>$B306+$U306/24,"未解決超過","対応中")),IF($R306<=$B306+$U306/24,"達成","超過"))) | X306: =IF($B306="","",IF($R306<>"",ROUND(($R306-$B306)*24,1),ROUND((NOW()-$B306)*24,1)))

Sheet ダッシュボード
A1: 顧客問い合わせダッシュボード
A2: ダッシュボードは「02_相談記録」から自動集計されます。レコードを追加・更新すると、指標・分布・グラフが数式で更新されます。
A4: 問い合わせ総数 | C4: 未完了件数 | D4: 状態別内訳 | E4: 初回応答超過 | G4: 優先度別内訳 | I4: 平均対応時間 | K4: 平均満足度
A5: 記録数 | B5: =COUNTA('02_相談記録'!A2:A200) | C5: =COUNTIFS('02_相談記録'!$B$7:$B$306,">0",'02_相談記録'!$N$7:$N$306,"<>解決済み",'02_相談記録'!$N$7:$N$306,"<>クローズ") | D5: 新規 | E5: =COUNTIF('02_相談記録'!$V$7:$V$306,"超過")+COUNTIF('02_相談記録'!$V$7:$V$306,"初回応答超過") | G5: 至急 | H5: =COUNTIF('02_相談記録'!F2:F200,G5) | I5: =IFERROR(ROUND(SUM('02_相談記録'!$X$7:$X$306)/COUNTIF('02_相談記録'!$X$7:$X$306,">0"),1),0) | K5: =IFERROR(ROUND(SUM('02_相談記録'!$Y$7:$Y$306)/COUNTIF('02_相談記録'!$Y$7:$Y$306,">0"),1),0)
A6: 未完了 | B6: =COUNTIF('02_相談記録'!G2:G200,"<>クローズ") | C6: 件 | D6: 対応中 | E6: 件 | G6: 高 | H6: =COUNTIF('02_相談記録'!F2:F200,G6) | I6: 時間 | K6: 分
A7: 高優先度 | B7: =COUNTIF('02_相談記録'!F2:F200,"緊急")+COUNTIF('02_相談記録'!F2:F200,"高") | D7: 顧客返信待ち | E7: =COUNTIF('02_相談記録'!G2:G200,D7) | G7: 中 | H7: =COUNTIF('02_相談記録'!F2:F200,G7)
A8: 完了率 | B8: =IF(A5=0,0,COUNTIF('02_相談記録'!G2:G200,"クローズ")/A5) | C8: 解決達成率 | D8: 確認待ち | E8: エスカレーション率 | G8: 低 | H8: =COUNTIF('02_相談記録'!F2:F200,G8) | I8: 応答待ち件数 | K8: 対応中件数
A9: =IFERROR(COUNTIF('02_相談記録'!$V$7:$V$306,"達成")/(COUNTIF('02_相談記録'!$V$7:$V$306,"達成")+COUNTIF('02_相談記録'!$V$7:$V$306,"超過")+COUNTIF('02_相談記録'!$V$7:$V$306,"初回応答超過")),0) | C9: =IFERROR(COUNTIF('02_相談記録'!$W$7:$W$306,"達成")/(COUNTIF('02_相談記録'!$W$7:$W$306,"達成")+COUNTIF('02_相談記録'!$W$7:$W$306,"超過")+COUNTIF('02_相談記録'!$W$7:$W$306,"未解決超過")),0) | D9: 解決済み | E9: =IFERROR(COUNTIF('02_相談記録'!$AB$7:$AB$306,"はい")/COUNT('02_相談記録'!$B$7:$B$306),0) | G9: =IFERROR((COUNTIF('02_相談記録'!$M$7:$M$306,"P0 緊急")+COUNTIF('02_相談記録'!$M$7:$M$306,"P1 高"))/COUNT('02_相談記録'!$B$7:$B$306),0) | I9: =COUNTIF('02_相談記録'!$V$7:$V$306,"応答待ち") | K9: =COUNTIF('02_相談記録'!$N$7:$N$306,"対応中")
D10: 完了 | E10: =COUNTIF('02_相談記録'!G2:G200,D10)
A13: チャネル別 | B13: 数量 | D13: 状態別 | E13: 数量 | G13: 業務シーン別 | H13: 数量 | J13: 優先度別 | K13: 数量
A14: メール | B14: =COUNTIF('02_相談記録'!$G$7:$G$306,A14) | D14: 新規受付 | E14: =COUNTIF('02_相談記録'!$N$7:$N$306,D14) | G14: 事前相談 | H14: =COUNTIF('02_相談記録'!$H$7:$H$306,G14) | J14: P0 緊急 | K14: =COUNTIF('02_相談記録'!$M$7:$M$306,J14)
A15: 電話 | B15: =COUNTIF('02_相談記録'!$G$7:$G$306,A15) | D15: 受付済み | E15: =COUNTIF('02_相談記録'!$N$7:$N$306,D15) | G15: 注文/契約 | H15: =COUNTIF('02_相談記録'!$H$7:$H$306,G15) | J15: P1 高 | K15: =COUNTIF('02_相談記録'!$M$7:$M$306,J15)
A16: オンラインチャット | B16: =COUNTIF('02_相談記録'!$G$7:$G$306,A16) | D16: 顧客待ち | E16: =COUNTIF('02_相談記録'!$N$7:$N$306,D16) | G16: 製品利用 | H16: =COUNTIF('02_相談記録'!$H$7:$H$306,G16) | J16: P2 中 | K16: =COUNTIF('02_相談記録'!$M$7:$M$306,J16)
A17: WeChat/WhatsApp | B17: =COUNTIF('02_相談記録'!$G$7:$G$306,A17) | D17: 対応中 | E17: =COUNTIF('02_相談記録'!$N$7:$N$306,D17) | G17: 技術サポート | H17: =COUNTIF('02_相談記録'!$H$7:$H$306,G17) | J17: P3 低 | K17: =COUNTIF('02_相談記録'!$M$7:$M$306,J17)
A18: SNS | B18: =COUNTIF('02_相談記録'!$G$7:$G$306,A18) | D18: エスカレーション済み | E18: =COUNTIF('02_相談記録'!$N$7:$N$306,D18) | G18: 請求/支払い | H18: =COUNTIF('02_相談記録'!$H$7:$H$306,G18)
A19: チケットシステム | B19: =COUNTIF('02_相談記録'!$G$7:$G$306,A19) | D19: 解決済み | E19: =COUNTIF('02_相談記録'!$N$7:$N$306,D19) | G19: 苦情・提案 | H19: =COUNTIF('02_相談記録'!$H$7:$H$306,G19)
A20: 現場/店舗 | B20: =COUNTIF('02_相談記録'!$G$7:$G$306,A20) | D20: クローズ | E20: =COUNTIF('02_相談記録'!$N$7:$N$306,D20) | G20: 返品・アフターサービス | H20: =COUNTIF('02_相談記録'!$H$7:$H$306,G20)
A21: その他 | B21: =COUNTIF('02_相談記録'!$G$7:$G$306,A21) | G21: アカウント/権限 | H21: =COUNTIF('02_相談記録'!$H$7:$H$306,G21)
G22: 物流/納品 | H22: =COUNTIF('02_相談記録'!$H$7:$H$306,G22)
G23: その他 | H23: =COUNTIF('02_相談記録'!$H$7:$H$306,G23)
A25: 直近6か月 | B25: 問い合わせ件数 | D25: 期限超過リスク | E25: 数量 | G25: 管理アクション推奨
A26: =TEXT(DATE(YEAR(TODAY()),MONTH(TODAY())-5,1),"yyyy-mm") | B26: =COUNTIFS('02_相談記録'!$B$7:$B$306,">="&DATE(YEAR(TODAY()),MONTH(TODAY())-5,1),'02_相談記録'!$B$7:$B$306,"<"&DATE(YEAR(TODAY()),MONTH(TODAY())-4,1)) | D26: 初回応答超過 | E26: =COUNTIF('02_相談記録'!$V$7:$V$306,"初回応答超過") | G26: 条件トリガー | H26: 推奨アクション
A27: =TEXT(DATE(YEAR(TODAY()),MONTH(TODAY())-4,1),"yyyy-mm") | B27: =COUNTIFS('02_相談記録'!$B$7:$B$306,">="&DATE(YEAR(TODAY()),MONTH(TODAY())-4,1),'02_相談記録'!$B$7:$B$306,"<"&DATE(YEAR(TODAY()),MONTH(TODAY())-3,1)) | D27: 応答超過 | E27: =COUNTIF('02_相談記録'!$V$7:$V$306,"超過") | G27: 初回応答超過/応答待ち | H27: まず担当者に追加対応を依頼し、必要に応じて再割り当て。
A28: =TEXT(DATE(YEAR(TODAY()),MONTH(TODAY())-3,1),"yyyy-mm") | B28: =COUNTIFS('02_相談記録'!$B$7:$B$306,">="&DATE(YEAR(TODAY()),MONTH(TODAY())-3,1),'02_相談記録'!$B$7:$B$306,"<"&DATE(YEAR(TODAY()),MONTH(TODAY())-2,1)) | D28: 未解決超過 | E28: =COUNTIF('02_相談記録'!$W$7:$W$306,"未解決超過") | G28: 解決超過 | H28: エスカレーションの要否、支援部門の追加、約束時間の調整を判断。
A29: =TEXT(DATE(YEAR(TODAY()),MONTH(TODAY())-2,1),"yyyy-mm") | B29: =COUNTIFS('02_相談記録'!$B$7:$B$306,">="&DATE(YEAR(TODAY()),MONTH(TODAY())-2,1),'02_相談記録'!$B$7:$B$306,"<"&DATE(YEAR(TODAY()),MONTH(TODAY())-1,1)) | D29: 解決超過 | E29: =COUNTIF('02_相談記録'!$W$7:$W$306,"超過") | G29: P0/P1比率升高 | H29: 原因を振り返り、製品不具合・風評・大口顧客リスクに注目。
A30: =TEXT(DATE(YEAR(TODAY()),MONTH(TODAY())-1,1),"yyyy-mm") | B30: =COUNTIFS('02_相談記録'!$B$7:$B$306,">="&DATE(YEAR(TODAY()),MONTH(TODAY())-1,1),'02_相談記録'!$B$7:$B$306,"<"&DATE(YEAR(TODAY()),MONTH(TODAY()),1)) | D30: 次回フォローは1日以内 | E30: =COUNTIFS('02_相談記録'!$B$7:$B$306,">0",'02_相談記録'!$AA$7:$AA$306,">0",'02_相談記録'!$AA$7:$AA$306,"<="&TODAY()+1,'02_相談記録'!$N$7:$N$306,"<>解決済み",'02_相談記録'!$N$7:$N$306,"<>クローズ") | G30: 苦情/公開チャネル | H30: やり取りの記録を残し、必要に応じて運営/広報/法務へ共有。
A31: =TEXT(DATE(YEAR(TODAY()),MONTH(TODAY()),1),"yyyy-mm") | B31: =COUNTIFS('02_相談記録'!$B$7:$B$306,">="&DATE(YEAR(TODAY()),MONTH(TODAY()),1),'02_相談記録'!$B$7:$B$306,"<"&DATE(YEAR(TODAY()),MONTH(TODAY())+1,1))

Sheet 選択肢
A1: 現在の状態 | G1: 担当者 | H1: 協力部門 | I1: 満足度 | J1: はい/いいえ
A2: 新規受付 | G2: 未割り当て | H2: カスタマーサポート | I2: 1 | J2: はい
A3: 個人顧客 | B3: 電話 | C3: 注文/契約 | D3: 価格/見積 | E3: P1 高 | F3: 受付済み | G3: 佐藤 | H3: 営業 | I3: 2 | J3: いいえ
A4: 状態 | B4: オンラインチャット | C4: 製品利用 | D4: 契約/ポリシー | E4: P2 中 | F4: 顧客待ち | G4: 担当者 | H4: 技術サポート | I4: チーム
A5: 新規 | B5: WeChat/WhatsApp | C5: 技術サポート | D5: 注文照会 | E5: P3 低 | F5: 対応中 | G5: 鈴木花子 | H5: カスタマーサクセス | I5: 一次サポートチーム
A6: 対応中 | B6: SNS | C6: 請求/支払い | D6: 請求/支払い | E6: 電話 | F6: エスカレーション済み | G6: 高橋健太 | H6: 経理財務 | I6: 技術サポートチーム
A7: 顧客返信待ち | B7: チケットシステム | C7: 苦情・提案 | D7: アカウント/権限 | E7: ウェブフォーム | F7: 解決済み | G7: 田中美咲 | H7: 物流 | I7: カスタマーサクセスチーム
A8: 確認待ち | B8: 現場/店舗 | C8: 返品・アフターサービス | D8: 操作案内 | E8: チャット | F8: クローズ | G8: 伊藤亮 | H8: 運営 | I8: アフターサービスチーム
A9: 解決済み | B9: その他 | C9: アカウント/権限 | D9: 障害/停止 | E9: 社内依頼 | G9: 佐藤真由美 | H9: 法務/コンプライアンス | I9: 品質管理チーム
A10: 完了 | C10: 物流/納品 | D10: データ/レポート | H10: その他
C11: その他 | D11: 物流/納品
D12: 返金/交換
D13: 苦情/提案
D14: コンプライアンス/プライバシー
D15: その他

Sheet 05_SLA規則
A1: 适用説明
A2: 本番障害、重大な風評、主要取引、またはセキュリティリスク。
A3: 手順 | B3: 対応 | C3: 説明 | D3: 必要に応じて部門担当者へエスカレーション | E3: 重要顧客、業務阻害、苦情エスカレーション。
A4: P2 中 | B4: 8 | C4: 72 | D4: 通常フローでフォロー | E4: 一般相談、機能不具合、請求処理。
A5: P3 低 | B5: 24 | C5: 120 | D5: 一括処理またはスケジュール処理 | E5: 影響の小さい問題、通常依頼、情報照会。
A6: 3 | B6: 応答 | C6: 状態、顧客の反応、対応結果を更新します。
A7: ルール説明: 問い合わせ記録の「初回応答SLA(h)」と「解決SLA(h)」は優先度別にこの表を自動参照します。会社ごとのサービス約束、顧客ランク、業界規制要件に応じて時限を調整できます。顧客ランク別に異なるSLAを設定する場合は、ルール表を追加し、問い合わせ記録の数式で検索条件を拡張してください。 | B7: 振り返り | C7: ダッシュボードで未完了と高優先度を確認します。

Sheet 項目説明
A1: メンテナンスのヒント
A2: 会社に独自のチケット番号がある場合を除き、手動で上書きしないでください。
A3: 初回問い合わせ時刻 | B3: はい | C3: 日時 | D3: 顧客が最初に問い合わせた時刻。 | E3: 2026-04-25 09:30 | F3: SLA計算に使うため、できるだけ正確に入力します。
A4: 顧客名 | B4: はい | C4: テキスト | D4: 顧客企業、個人、または組織の名称。 | E4: 東都商事株式会社 | F4: CRMの顧客マスタと合わせて管理できます。
A5: 顧客区分 | B5: 推奨 | C5: プルダウン | D5: 企業・個人・パートナー・見込み顧客などで区分。 | E5: 法人顧客 | F5: ドロップダウン項目で管理。
A6: 担当者 | B6: 推奨 | C6: テキスト | D6: 顧客側の連絡担当者。 | E6: 佐藤さん | F6: 機密性の高い個人情報を記録しすぎないでください。
A7: 連絡先 | B7: 推奨 | C7: テキスト | D7: 邮箱、電話、社媒ID或その他連絡先。 | E7: chen@example.com | F7: 高いコンプライアンスが必要な業界では匿名化を推奨します。
A8: 問い合わせチャネル | B8: はい | C8: プルダウン | D8: 顧客が問い合わせを行った入口。 | E8: メール | F8: チャネル負荷の分析に使います。
A9: 業務シーン | B9: はい | C9: プルダウン | D9: 問い合わせに対応する業務段階またはサービスシーン。 | E9: 技術サポート | F9: 会社の業務フローに合わせたカスタマイズを推奨。
A10: 製品/サービス | B10: 推奨 | C10: テキスト | D10: 対象となる製品、サービス、店舗、講座、システム、または案件。 | E10: 法人向けCRM | F10: 製品/サービス単位の集計に使います。
A11: 問題区分 | B11: はい | C11: プルダウン | D11: 問題の詳細カテゴリ。 | E11: アカウント/権限 | F11: 頻出する問題の発見に使います。
A12: 問い合わせ件名 | B12: はい | C12: テキスト | D12: 問い合わせ内容を一文で要約。 | E12: 管理者がログインできない | F12: 絞り込みと素早い確認に便利。
A13: 問い合わせ要約 | B13: 推奨 | C13: 長文テキスト | D13: 顧客の要望、影響範囲、重要情報を記録します。 | E13: アカウントのログイン失敗により、チーム設定に影響。 | F13: 客観的に記載し、冗長表現を避ける。
A14: 優先度 | B14: はい | C14: プルダウン | D14: SLAルールとの照合に使います。 | E14: P1 高 | F14: P0/P1向けのエスカレーションルールを設定推奨。
... A31: 備考/リンク | B31: 任意 | C31: テキスト/リンク | D31: 補足記録、外部チケット、添付リンク。 | E31: ナレッジベース/CRMリンク | F31: 機密添付の貼り付けは避けてください。
